BEGIN:VCALENDAR
VERSION:2.0
PRODID:-//eventon.com NONSGML v1.0//EN
CALSCALE:GREGORIAN
METHOD:PUBLISH
BEGIN:VEVENT
UID:69e74c5d3b06d
DTSTAMP:20260421T100725Z
DTSTART:20260522T100800Z
DTEND:20260525T100800Z
LOCATION:
SUMMARY:Hard Défi Tour 2026
DESCRIPTION:Venez découvrir l’univers du Hard Défi Tour 2026 sur le sta
 nd HUGEROCK !Rencontrez notre équipe\,  posez toutes vos questions et plon
 gez dans l’esprit de cette aventure moto offroad unique. Le Hard Défi To
 ur est une randonnée trail / maxi-trail exigeante\,  combinant navigation 
 GPS\,  paysages spectaculaires et défis techniques. C’est l’occasion[.
 .]\nhttps://allride.fr/events/hard-defi-tour-2026
URL:https://allride.fr/events/hard-defi-tour-2026
END:VEVENT
END:VCALENDAR